BEGIN:VCALENDAR
VERSION:2.0
PRODID:icalendar-ruby
CALSCALE:GREGORIAN
METHOD:PUBLISH
BEGIN:VEVENT
DTSTAMP:20260425T155822Z
UID:584-268172@ontario.anglican.ca
DTSTART:20251203T010000Z
DTEND:20251203T030000Z
CLASS:PUBLIC
CREATED:20251008T161240
DESCRIPTION:In recent years throughout the Anglican Church of Canada\, ther
 e has been a resurgence in the interest and support of Diaconal ministry. 
 Taught by The Rev. Canon Dr. Grayhame Bowcott\, this course is especially 
 designed for students who may be exploring this vocation. In order to equi
 p them in their discernment process\, this course will dig deep into the h
 istorical origins of the Diaconate\, from the Early Church to present\, to
  unpack the historical and theological developments of this order of minis
 try over time.\nIt will also integrate the vocational witness of contempor
 ary deacons in our Church\, hosting six different leaders\, each represent
 ing a different expression of the diversity of diaconal ministry today.\nL
 astly\, the course will inform students of the ongoing theological dialogu
 es about deacons in the Anglican Church of Canada\, and how they\, in thei
 r own expression of service\, may be living into their own call to diacona
 l ministry.\nUpon completion of this course\, participants will have a gro
 unded understanding of the Biblical relevance\, history\, theology and pra
 ctice of the Diaconate to greatly appreciate\, or discern a possible calli
 ng to\, this ministry in the Anglican Church of Canada today.   \nNote: 
 This course is not seeking to provide for the practical\, liturgical instr
 uction of Diaconal Postulants. A Liturgics course for deacons and diaconal
  aspirants will be offered in an additional course\, outside the objective
 s of this particular course.\nStudents from the Dioceses of Huron\, Ontari
 o and Fredericton can sign up for these courses\, free of cost\, as either
  a for-credit or auditing student\nRegister online at the following link: 
 https://huronu.ca/programs/theology/life-long-learning/
LAST-MODIFIED:20251008T161240
LOCATION:
SUMMARY:The Heart of a Deacon
URL;VALUE=URI:https://www.ontario.anglican.ca/events/the-heart-of-a-deacon/
 2025-12-02
ATTACH;FILENAME=Huron-Theology-Courses---Heart-of-a-Deacon.png;FMTTYPE=imag
 e/png:https://dq5pwpg1q8ru0.cloudfront.net/2025/10/08/20/11/27/739c3378-63
 24-43e6-8992-86de9e1625e5/Huron-Theology-Courses---Heart-of-a-Deacon.png
END:VEVENT
END:VCALENDAR
