BEGIN:VCALENDAR
VERSION:2.0
PRODID:icalendar-ruby
CALSCALE:GREGORIAN
METHOD:PUBLISH
BEGIN:VEVENT
DTSTAMP:20260425T014433Z
UID:261-352983@ontario.anglican.ca
DTSTART:20260509T120000Z
DTEND:20260509T170000Z
CLASS:PUBLIC
CREATED:20260420T120045
DESCRIPTION:St. Peter's Anglican Church Annual Garage and Bake Sale on Satu
 rday\, May 9th from 8am - 1pm. Lots of delicious homemade baked goods and 
 treasures to find!\nFor more information\, contact the church office - 613
 -384-1782 or stpeters.anglicanchurch1@gmail.com
LAST-MODIFIED:20260420T120045
LOCATION:St. Peter’s Anglican Church\, 4333 Bath Rd.\, Kingston
SUMMARY:St. Peter's annual Garage and Bake Sale
URL;VALUE=URI:https://www.ontario.anglican.ca/events/st-peters-annual-garag
 e-and-bake-sale/2026-05-09
ATTACH;FILENAME=Sale.png;FMTTYPE=image/png:https://dq5pwpg1q8ru0.cloudfront
 .net/2023/04/26/07/10/04/658ae157-8715-4d9c-9373-332deb417daa/Sale.png
ATTACH;FILENAME=garage sale - may 6 2023.pdf;FMTTYPE=application/pdf:https:
 //dq5pwpg1q8ru0.cloudfront.net/2023/04/26/07/25/28/b745dea7-5fd2-4503-91c0
 -159acc113d29/garage%20sale%20-%20may%206%202023.pdf
END:VEVENT
END:VCALENDAR
