BEGIN:VCALENDAR
VERSION:2.0
PRODID:icalendar-ruby
CALSCALE:GREGORIAN
METHOD:PUBLISH
BEGIN:VEVENT
DTSTAMP:20260424T030210Z
UID:659-352984@ontario.anglican.ca
DTSTART:20260426T143000Z
DTEND:20260426T160000Z
CLASS:PUBLIC
CREATED:20260420T121831
DESCRIPTION:You are invited to join us for the 183rd Anniversary of St. Mar
 k’s Church (“The Church on the Hill” at 268 Main Street\, Barriefiel
 d/Kingston East K7K 6W4) on SUNDAY\, 26th April 2026 for the 10:30AM Servi
 ce.\nThe Venerable Jane Humphrey will preside.  If you are/or were a resi
 dent of Barriefield\, you are especially welcome.\nFor more information\, 
 please call the church office: 613-546-3386.
LAST-MODIFIED:20260420T121831
LOCATION:St. Mark's Church\, 268 Main Street\, Barriefield/Kingston East
SUMMARY:St. Mark's 183rd Anniversary
URL;VALUE=URI:https://www.ontario.anglican.ca/events/st-marks-183rd-anniver
 sary/2026-04-26
ATTACH;FILENAME=St-Marks-Barriefield.jpg;FMTTYPE=image/jpeg:https://dq5pwpg
 1q8ru0.cloudfront.net/2026/04/20/16/18/30/70baf112-feac-426d-83b3-d15faa34
 29b3/St-Marks-Barriefield.jpg
END:VEVENT
END:VCALENDAR
