BEGIN:VCALENDAR
VERSION:2.0
PRODID:icalendar-ruby
CALSCALE:GREGORIAN
METHOD:PUBLISH
BEGIN:VEVENT
DTSTAMP:20260424T110420Z
UID:658-344251@ontario.anglican.ca
DTSTART:20260420T230000Z
DTEND:20260421T010000Z
CLASS:PUBLIC
CREATED:20260408T105856
DESCRIPTION: “The world knows the image of the good Canadian\, but what 
 if there was a dark secret behind the national identity?  This eye-openin
 g and unflinching documentary\, The Good Canadian\, lifts the mask on the 
 True North Strong and Free\, one truth at a time.”\nThe Doctrine of Disc
 overy (Papal Bulls 1452\, 1455 and 1493) and The Indian Act\, 1876 continu
 e to impact Canadian Indigenous populations.\nThe Good Canadian investigat
 ive documentary uncovers the systemic injustices faced by Indigenous peopl
 e in Canada at a time of Reconciliation at the hands of the criminal justi
 ce system\, the child welfare system\, the education system\, the health c
 are system\, through birth alerts and more.\nWatch this powerful documenta
 ry – on CBC Gem or Youtube - https://youtu.be/na7PiOyyBtk?si=4hQMFaAC4lk
 fDyly.\nThen join us Monday\, April 20th\, 7:00 pm ET for an online discus
 sion about what you saw and heard.\nContact Sharon Dunlop – sharon@stjam
 eskingston.ca to register and for zoom link. Hosted by St. James’ Anglic
 an Church\, Kingston.\n \n\n\n 
LAST-MODIFIED:20260408T105856
LOCATION:St. James Anglican Church\, 10 Union Street Kingston.
SUMMARY:Film Study: "The Good Canadian"
URL;VALUE=URI:https://www.ontario.anglican.ca/events/film-study-the-good-ca
 nadian/2026-04-20
ATTACH;FILENAME=Good-Canadian.png;FMTTYPE=image/png:https://dq5pwpg1q8ru0.c
 loudfront.net/2026/04/08/14/58/56/7d0fb027-30ab-49f1-b777-32cbd4174535/Goo
 d-Canadian.png
END:VEVENT
END:VCALENDAR
