BEGIN:VCALENDAR
VERSION:2.0
PRODID:icalendar-ruby
CALSCALE:GREGORIAN
METHOD:PUBLISH
BEGIN:VEVENT
DTSTAMP:20260419T180028Z
UID:657-339576@ontario.anglican.ca
DTSTART:20260502T180000Z
DTEND:20260502T200000Z
CLASS:PUBLIC
CREATED:20260401T152919
DESCRIPTION:St. Luke's Anglican and Princess Street United Church invite yo
 u to an afternoon high tea on Saturday May 2\, 2026 from 2-4 pm. \nEnjoy 
 an assortment of fancy sandwiches\, fresh scones with jam\, delicious swee
 ts\, and your choice of tea or coffee. All are welcome to share in good co
 mpany and good treats.\n 
LAST-MODIFIED:20260401T152919
LOCATION:St. Luke's Anglican Church\, 236 Nelson Street\, Kingston
SUMMARY:A High Tea
URL;VALUE=URI:https://www.ontario.anglican.ca/events/a-high-tea/2026-05-02
ATTACH;FILENAME=High-Tead.png;FMTTYPE=image/png:https://dq5pwpg1q8ru0.cloud
 front.net/2026/04/01/19/29/19/36aeb3a4-c97e-42c2-b271-eab13f84a1b2/High-Te
 ad.png
END:VEVENT
END:VCALENDAR
